BEGIN:VCALENDAR
VERSION:2.0
PRODID:-//casa4change.org//NONSGML kigkonsult.se iCalcreator 2.30.10//
CALSCALE:GREGORIAN
METHOD:PUBLISH
UID:c0df9116-3696-4a6e-bfd1-51af327251b6
X-WR-CALDESC:CASA for Kids will be presenting to the Fayette County Interag
 ency Council located at the Regional Office of Education #3.
X-WR-RELCALID:574bd319bdb4277b023448d4b02a53e2
X-WR-TIMEZONE:America/Chicago
BEGIN:VTIMEZONE
TZID:America/Chicago
BEGIN:STANDARD
TZNAME:CST
DTSTART:20251102T020000
TZOFFSETFROM:-0500
TZOFFSETTO:-0600
RDATE:20261101T020000
RDATE:20271107T020000
END:STANDARD
BEGIN:DAYLIGHT
TZNAME:CDT
DTSTART:20260308T020000
TZOFFSETFROM:-0600
TZOFFSETTO:-0500
RDATE:20270314T020000
END:DAYLIGHT
END:VTIMEZONE
BEGIN:VEVENT
UID:3d2042e4-34c1-4096-bf2a-675bf5f438b2
DTSTAMP:20260425T174126Z
DESCRIPTION:CASA for Kids will be presenting to the Fayette County Interage
 ncy Council located at the Regional Office of Education #3.
DTSTART;TZID=America/Chicago:20260708T120000
DTEND;TZID=America/Chicago:20260708T130000
LOCATION:ROE #3\, 1500 W Jefferson Ave\, Vandalia\, IL 62471 US
SUMMARY:CASA Presents @ FCIC
END:VEVENT
END:VCALENDAR
