BEGIN:VCALENDAR
VERSION:2.0
PRODID:-//casa4change.org//NONSGML kigkonsult.se iCalcreator 2.30.10//
CALSCALE:GREGORIAN
METHOD:PUBLISH
UID:1f31f502-3e74-40dd-a235-b769efdd0c89
X-WR-CALDESC:The Centralia Historic Preservation Commission holds this FREE
  Annual Family Event on Saturday\, May 2nd. Stop by CASA for Kids' booth t
 o learn more about our organization!
X-WR-RELCALID:d55b5108f5d65a498568b591a3fc1ebb
X-WR-TIMEZONE:America/Chicago
BEGIN:VTIMEZONE
TZID:America/Chicago
BEGIN:STANDARD
TZNAME:CST
DTSTART:20251102T020000
TZOFFSETFROM:-0500
TZOFFSETTO:-0600
RDATE:20261101T020000
END:STANDARD
BEGIN:DAYLIGHT
TZNAME:CDT
DTSTART:20260308T020000
TZOFFSETFROM:-0600
TZOFFSETTO:-0500
RDATE:20270314T020000
END:DAYLIGHT
END:VTIMEZONE
BEGIN:VEVENT
UID:e2404102-a74b-4676-9db7-eb2f2eb57dd5
DTSTAMP:20260425T140650Z
DESCRIPTION:The Centralia Historic Preservation Commission holds this FREE 
 Annual Family Event on Saturday\, May 2nd. Stop by CASA for Kids' booth to
  learn more about our organization!
DTSTART;TZID=America/Chicago:20260502T100000
DTEND;TZID=America/Chicago:20260502T140000
LOCATION:S Locust Street\, Centralia\, IL 62801 US
SUMMARY:CASA @ Locust Street Fair in Centralia
END:VEVENT
END:VCALENDAR
