BEGIN:VCALENDAR
VERSION:2.0
PRODID:-//casa4change.org//NONSGML kigkonsult.se iCalcreator 2.30.10//
CALSCALE:GREGORIAN
METHOD:PUBLISH
UID:28eea2c1-3d4e-4739-8e09-72acde2e392b
X-WR-CALDESC:CASA will have a booth at the Annual Healthy Kids Day at the F
 amily YMCA of Fayette County on May 2nd from 1:00–3:00 PM.\n\nHealthy Kids
  Day is a community event where local businesses\, organizations\, and com
 munity members come together to share valuable information and resources w
 ith families in our area. Our goal is to create a fun and engaging environ
 ment that encourages kids to stay active and helps families learn about th
 e great opportunities available in our community.
X-WR-RELCALID:0c4c0031b4f9d3acc945c00e98b1842f
X-WR-TIMEZONE:America/Chicago
BEGIN:VTIMEZONE
TZID:America/Chicago
BEGIN:STANDARD
TZNAME:CST
DTSTART:20251102T020000
TZOFFSETFROM:-0500
TZOFFSETTO:-0600
RDATE:20261101T020000
END:STANDARD
BEGIN:DAYLIGHT
TZNAME:CDT
DTSTART:20260308T020000
TZOFFSETFROM:-0600
TZOFFSETTO:-0500
RDATE:20270314T020000
END:DAYLIGHT
END:VTIMEZONE
BEGIN:VEVENT
UID:8f50e5dc-88bb-44bf-9caf-a3a74fa94acb
DTSTAMP:20260425T143137Z
DESCRIPTION:CASA will have a booth at the Annual Healthy Kids Day at the Fa
 mily YMCA of Fayette County on May 2nd from 1:00–3:00 PM.\n\nHealthy Kids 
 Day is a community event where local businesses\, organizations\, and comm
 unity members come together to share valuable information and resources wi
 th families in our area. Our goal is to create a fun and engaging environm
 ent that encourages kids to stay active and helps families learn about the
  great opportunities available in our community.
DTSTART;TZID=America/Chicago:20260502T130000
DTEND;TZID=America/Chicago:20260502T150000
LOCATION:Family YMCA of Fayette County\, 710 Rock Island Ave\, Vandalia\, I
 L 62401 US
SUMMARY:CASA @ Healthy Kids Day - Vandalia YMCA
END:VEVENT
END:VCALENDAR
