BEGIN:VCALENDAR
VERSION:2.0
PRODID:-//casa4change.org//NONSGML kigkonsult.se iCalcreator 2.30.10//
CALSCALE:GREGORIAN
METHOD:PUBLISH
UID:904623e4-13d7-45e6-b4ba-bd1bf805cee9
X-WR-CALDESC:Wheat Penny is raising community awareness for CASA during the
  week of April 28! Cocktails for CASA will kick off the week on Tuesday\, 
 April 28th\, from 5p - 9p\, and a portion of sales will be donated to CASA
  for the remainder of the week. Come join the fun! More details to come on
  our Facebook page (/CASAforKidsIL).
X-WR-RELCALID:96bd246c2cbc8f57fee887183de0d286
X-WR-TIMEZONE:America/Chicago
BEGIN:VTIMEZONE
TZID:America/Chicago
BEGIN:STANDARD
TZNAME:CST
DTSTART:20251102T020000
TZOFFSETFROM:-0500
TZOFFSETTO:-0600
RDATE:20261101T020000
END:STANDARD
BEGIN:DAYLIGHT
TZNAME:CDT
DTSTART:20260308T020000
TZOFFSETFROM:-0600
TZOFFSETTO:-0500
RDATE:20270314T020000
END:DAYLIGHT
END:VTIMEZONE
BEGIN:VEVENT
UID:841b7d9b-fa3d-481c-971f-253d851f178a
DTSTAMP:20260424T163251Z
DESCRIPTION:Wheat Penny is raising community awareness for CASA during the 
 week of April 28! Cocktails for CASA will kick off the week on Tuesday\, A
 pril 28th\, from 5p - 9p\, and a portion of sales will be donated to CASA 
 for the remainder of the week. Come join the fun! More details to come on 
 our Facebook page (/CASAforKidsIL).
DTSTART;TZID=America/Chicago:20260428T170000
DTEND;TZID=America/Chicago:20260428T210000
LOCATION:Wheat Penny\, 214 W Jefferson Ave\, Effingham \, IL 62401 US
SUMMARY:Cocktails for CASA @ Wheat Penny in Effingham
END:VEVENT
END:VCALENDAR
