BEGIN:VCALENDAR
VERSION:2.0
PRODID:-//casa4change.org//NONSGML kigkonsult.se iCalcreator 2.30.10//
CALSCALE:GREGORIAN
METHOD:PUBLISH
UID:cf692804-bb6e-4e09-be4c-701cd147c56c
X-WR-CALDESC:CASA Staff will be presenting to Flora High School Educators o
 n how to collaborate for youth in foster care to best support academic nee
 ds.
X-WR-RELCALID:5ade69dce7d90395a43231533512781d
X-WR-TIMEZONE:America/Chicago
BEGIN:VTIMEZONE
TZID:America/Chicago
BEGIN:STANDARD
TZNAME:CST
DTSTART:20251102T020000
TZOFFSETFROM:-0500
TZOFFSETTO:-0600
RDATE:20261101T020000
END:STANDARD
BEGIN:DAYLIGHT
TZNAME:CDT
DTSTART:20260308T020000
TZOFFSETFROM:-0600
TZOFFSETTO:-0500
RDATE:20270314T020000
END:DAYLIGHT
END:VTIMEZONE
BEGIN:VEVENT
UID:fb7728ff-2015-4b66-bbe6-000372732b8c
DTSTAMP:20260424T155335Z
DESCRIPTION:CASA Staff will be presenting to Flora High School Educators on
  how to collaborate for youth in foster care to best support academic need
 s.
DTSTART;TZID=America/Chicago:20260424T120000
DTEND;TZID=America/Chicago:20260424T130000
LOCATION:
SUMMARY:CASA @ Flora High School
END:VEVENT
END:VCALENDAR
