BEGIN:VCALENDAR
VERSION:2.0
PRODID:-//casa4change.org//NONSGML kigkonsult.se iCalcreator 2.30.10//
CALSCALE:GREGORIAN
METHOD:PUBLISH
UID:4a3a4314-c8ae-445d-b02e-5b37d10f14f3
X-WR-CALDESC:🌿Join CASA for Kids for Plant Bingo Night! 🌿nA fun evening out
  for plant lovers and a chance to support kids in foster care in Effingham
  County. Whether you’re a seasoned plant parent or just getting started\, 
 you won’t want to miss this spring‑themed event.\n🌱What to Expect:\n✨ 10 r
 ounds of bingo\n✨ Indoor & outdoor plant prizes\n✨ Door prize drawings\n✨ 
 Pizza available for purchase & a full cash bar\n📅Thursday\, April 23\n⏰ 7:
 00 PM – 9:00 PM\n(Doors open at 6:00 PM)\n📍American Legion Post #120\n200 
 W Washington Ave\, Effingham\, IL\n🎟Tickets: $30\nProceeds help CASA for K
 ids advocate for children experiencing abuse and neglect in our community.
 \nnGet tickets at: https://checkout.page/s/xL8SeDwYoS1N4\nor call (855) 48
 4‑6403. Limited seats available - purchase today!\nBring your friends\, en
 joy a night out\, and maybe go home with a new plant baby! 🌿
X-WR-RELCALID:8893bb9ccb373cb2e55738d5cb5ce271
X-WR-TIMEZONE:America/Chicago
BEGIN:VTIMEZONE
TZID:America/Chicago
BEGIN:STANDARD
TZNAME:CST
DTSTART:20251102T020000
TZOFFSETFROM:-0500
TZOFFSETTO:-0600
RDATE:20261101T020000
END:STANDARD
BEGIN:DAYLIGHT
TZNAME:CDT
DTSTART:20260308T020000
TZOFFSETFROM:-0600
TZOFFSETTO:-0500
RDATE:20270314T020000
END:DAYLIGHT
END:VTIMEZONE
BEGIN:VEVENT
UID:ea67325d-78d7-4921-b0c6-f00b23e8a5a7
DTSTAMP:20260425T120404Z
DESCRIPTION:🌿Join CASA for Kids for Plant Bingo Night! 🌿nA fun evening out 
 for plant lovers and a chance to support kids in foster care in Effingham 
 County. Whether you’re a seasoned plant parent or just getting started\, y
 ou won’t want to miss this spring‑themed event.\n🌱What to Expect:\n✨ 10 ro
 unds of bingo\n✨ Indoor & outdoor plant prizes\n✨ Door prize drawings\n✨ P
 izza available for purchase & a full cash bar\n📅Thursday\, April 23\n⏰ 7:0
 0 PM – 9:00 PM\n(Doors open at 6:00 PM)\n📍American Legion Post #120\n200 W
  Washington Ave\, Effingham\, IL\n🎟Tickets: $30\nProceeds help CASA for Ki
 ds advocate for children experiencing abuse and neglect in our community.
 \nnGet tickets at: https://checkout.page/s/xL8SeDwYoS1N4\nor call (855) 48
 4‑6403. Limited seats available - purchase today!\nBring your friends\, en
 joy a night out\, and maybe go home with a new plant baby! 🌿
DTSTART;TZID=America/Chicago:20260423T190000
DTEND;TZID=America/Chicago:20260423T210000
LOCATION:200 W Washington Ave\, Effingham\, IL 62401 US
SUMMARY:Plant Bingo Night @ Effingham American Legion
END:VEVENT
END:VCALENDAR
