BEGIN:VCALENDAR
VERSION:2.0
PRODID:-//casa4change.org//NONSGML kigkonsult.se iCalcreator 2.30.10//
CALSCALE:GREGORIAN
METHOD:PUBLISH
UID:0bddb5c7-0b89-43d7-80f8-78a5fa1318e5
X-WR-CALDESC:Stop by the Effingham Event Center on 4/23 from 3-6p to meet C
 ASA for Kids staff and learn how you can make a difference in the life of 
 a child in foster care.
X-WR-RELCALID:1d97c18fd25472cac8eb4a4b6a26c346
X-WR-TIMEZONE:America/Chicago
BEGIN:VTIMEZONE
TZID:America/Chicago
BEGIN:STANDARD
TZNAME:CST
DTSTART:20251102T020000
TZOFFSETFROM:-0500
TZOFFSETTO:-0600
RDATE:20261101T020000
END:STANDARD
BEGIN:DAYLIGHT
TZNAME:CDT
DTSTART:20260308T020000
TZOFFSETFROM:-0600
TZOFFSETTO:-0500
RDATE:20270314T020000
END:DAYLIGHT
END:VTIMEZONE
BEGIN:VEVENT
UID:3431e629-cc2d-4ea6-babb-629ddf31e32f
DTSTAMP:20260425T124410Z
DESCRIPTION:Stop by the Effingham Event Center on 4/23 from 3-6p to meet CA
 SA for Kids staff and learn how you can make a difference in the life of a
  child in foster care.
DTSTART;TZID=America/Chicago:20260423T150000
DTEND;TZID=America/Chicago:20260423T180000
LOCATION:Effingham Event Center\, 1501 W Fayette \, Effingham\, IL 62401 US
SUMMARY:CASA @ Effingham Volunteer Fair
END:VEVENT
END:VCALENDAR
