BEGIN:VCALENDAR
VERSION:2.0
PRODID:-//casa4change.org//NONSGML kigkonsult.se iCalcreator 2.30.10//
CALSCALE:GREGORIAN
METHOD:PUBLISH
UID:7678da9f-c893-4e73-9c8a-54786f635a6c
X-WR-CALDESC:đźŽ‰Designer Purse Bingo in Newton\, IL! đź‘śnHosted by CASA for Kid
 s\nGet ready for a fun\, highâ€‘energy night out\, all while supporting chil
 dren in foster care in Jasper County! Bring your friends\, your lucky char
 ms\, and your gameâ€‘day excitement for an evening of Designer Purse Bingo f
 eaturing brands like Kate Spade\, Lilly Pulitzer\, Vera Bradley\, Lululemo
 n\, and more!\nâś¨ Purses with a total MSRP of over $2\,000!\nâś¨ 10 rounds of
  bingo + door prizes\nâś¨ Full cash bar & snacks available for purchase\nđź“…Sa
 turday\, April 18th\nâŹ° Doors open: 6:00 PM\nâŹ° Bingo calling begins: 7:00 P
 M\nđź“ŤAmerican Legion Post #20\n108 E Jourdan St\, Newton\, IL\nđźŽźTickets: $3
 0\nAll proceeds support CASA for Kids and our mission to advocate for chil
 dren experiencing abuse and neglect.\nđź‘‰Purchase tickets at: https://checko
 ut.page/s/xLJ3BUmDrZW4M\nor call (855) 484â€‘6403.\nCome play\, have fun\, a
 nd help change a childâ€™s story during Child Abuse Prevention Month in Apri
 l. We canâ€™t wait to see you there!
X-WR-RELCALID:ff96aa89ca89c645dc7357a1f9c0f51d
X-WR-TIMEZONE:America/Chicago
BEGIN:VTIMEZONE
TZID:America/Chicago
BEGIN:STANDARD
TZNAME:CST
DTSTART:20251102T020000
TZOFFSETFROM:-0500
TZOFFSETTO:-0600
RDATE:20261101T020000
END:STANDARD
BEGIN:DAYLIGHT
TZNAME:CDT
DTSTART:20260308T020000
TZOFFSETFROM:-0600
TZOFFSETTO:-0500
RDATE:20270314T020000
END:DAYLIGHT
END:VTIMEZONE
BEGIN:VEVENT
UID:bdabe261-d53b-435e-91db-eb2b1eb34fc5
DTSTAMP:20260425T120501Z
DESCRIPTION:đźŽ‰Designer Purse Bingo in Newton\, IL! đź‘śnHosted by CASA for Kids
 \nGet ready for a fun\, highâ€‘energy night out\, all while supporting child
 ren in foster care in Jasper County! Bring your friends\, your lucky charm
 s\, and your gameâ€‘day excitement for an evening of Designer Purse Bingo fe
 aturing brands like Kate Spade\, Lilly Pulitzer\, Vera Bradley\, Lululemon
 \, and more!\nâś¨ Purses with a total MSRP of over $2\,000!\nâś¨ 10 rounds of 
 bingo + door prizes\nâś¨ Full cash bar & snacks available for purchase\nđź“…Sat
 urday\, April 18th\nâŹ° Doors open: 6:00 PM\nâŹ° Bingo calling begins: 7:00 PM
 \nđnđźAmerican Legion Post #20\n108 E Jourdan St\, Newton\, IL\nđźŽźTickets: $30
 \nAll proceeds support CASA for Kids and our mission to advocate for child
 ren experiencing abuse and neglect.\nđź‘‰Purchase tickets at: https://checkou
 t.page/s/xLJ3BUmDrZW4M\nor call (855) 484â€‘6403.\nCome play\, have fun\, an
 d help change a childâ€™s story during Child Abuse Prevention Month in April
 . We canâ€™t wait to see you there!
DTSTART;TZID=America/Chicago:20260418T190000
DTEND;TZID=America/Chicago:20260418T210000
LOCATION:American Legion Post #20\, 108 E Jourdan St\, Newton\, IL 62448 US
SUMMARY:Newton Designer Purse Bingo
END:VEVENT
END:VCALENDAR
