BEGIN:VCALENDAR
VERSION:2.0
PRODID:-//casa4change.org//NONSGML kigkonsult.se iCalcreator 2.30.10//
CALSCALE:GREGORIAN
METHOD:PUBLISH
UID:59f3f1f6-eab5-47ab-99ec-7fd8f8c6e316
X-WR-CALDESC:CASA for Kids will have a booth at SAFE's family-friendly even
 t on April 18th! There will be fun for all ages! Food trucks\, kids' activ
 ity area\, music\, and possibly vendors. Timed race and fun run options.
X-WR-RELCALID:9bf0b48ee722e17fa9fd2892cb3a36ed
X-WR-TIMEZONE:America/Chicago
BEGIN:VTIMEZONE
TZID:America/Chicago
BEGIN:STANDARD
TZNAME:CST
DTSTART:20251102T020000
TZOFFSETFROM:-0500
TZOFFSETTO:-0600
RDATE:20261101T020000
END:STANDARD
BEGIN:DAYLIGHT
TZNAME:CDT
DTSTART:20260308T020000
TZOFFSETFROM:-0600
TZOFFSETTO:-0500
RDATE:20270314T020000
END:DAYLIGHT
END:VTIMEZONE
BEGIN:VEVENT
UID:a68b337b-eb45-4ede-a72d-ae95da925c24
DTSTAMP:20260425T120337Z
DESCRIPTION:CASA for Kids will have a booth at SAFE's family-friendly event
  on April 18th! There will be fun for all ages! Food trucks\, kids' activi
 ty area\, music\, and possibly vendors. Timed race and fun run options.
DTSTART;TZID=America/Chicago:20260418T080000
DTEND;TZID=America/Chicago:20260418T150000
LOCATION:Bryan Memorial Park\, Hull Drive\, Salem\, IL 62881 US
SUMMARY:Color. Courage. Change in Salem
END:VEVENT
END:VCALENDAR
