BEGIN:VCALENDAR
VERSION:2.0
PRODID:-//casa4change.org//NONSGML kigkonsult.se iCalcreator 2.30.10//
CALSCALE:GREGORIAN
METHOD:PUBLISH
UID:a6cce51d-6af0-43e9-8a89-6dca1a74717f
X-WR-CALDESC:đźŽ‰Designer Purse Bingo â€“ Flora\, IL! đź‘śnHosted by CASA for Kids
 \nCome enjoy a fun Friday girl's night out and maybe go home with a brandâ€‘
 new designer purse! We canâ€™t wait to see you there! đź’•ź‘ś\nâś¨ Event Highlights:
 \nânâ 10 rounds of bingo with designer purse prizes\nâ€˘ Door prizes between e
 ach round\nâ€˘ Cash bar\nâ€˘ BBQ & nachos available for purchase\nđź“…Friday\, Ap
 ril 17\, 2026\nâŹ° Doors open: 6:00 PM + Bingo begins: 7:00 PM\nđź“ŤElks Lodge 
 #1659\n120 N Main St.\, Flora\, IL\nđźŽźTickets: $30\nAll proceeds support CA
 SA for Kids and our mission to advocate for children who have experienced 
 abuse or neglect.\nđź‘‰Purchase tickets: https://checkout.page/s/gZFYyYASPWOP
 g\nor call (855) 484â€‘6403
X-WR-RELCALID:58b28b4daece001148627d3dfb7dd6a7
X-WR-TIMEZONE:America/Chicago
BEGIN:VTIMEZONE
TZID:America/Chicago
BEGIN:STANDARD
TZNAME:CST
DTSTART:20251102T020000
TZOFFSETFROM:-0500
TZOFFSETTO:-0600
RDATE:20261101T020000
END:STANDARD
BEGIN:DAYLIGHT
TZNAME:CDT
DTSTART:20260308T020000
TZOFFSETFROM:-0600
TZOFFSETTO:-0500
RDATE:20270314T020000
END:DAYLIGHT
END:VTIMEZONE
BEGIN:VEVENT
UID:75912528-7d50-4257-94ca-1f650b625387
DTSTAMP:20260425T115559Z
DESCRIPTION:đźŽ‰Designer Purse Bingo â€“ Flora\, IL! đź‘śnHosted by CASA for Kids\n
 Come enjoy a fun Friday girl's night out and maybe go home with a brandâ€‘ne
 w designer purse! We canâ€™t wait to see you there! đź’•ź‘ś\nâś¨ Event Highlights:\n
 â€˘ 10 rounds of bingo with designer purse prizes\nâ€˘ Door prizes between eac
 h round\nâ€˘ Cash bar\nâ€˘ BBQ & nachos available for purchase\nđź“…Friday\, Apri
 l 17\, 2026\nâŹ° Doors open: 6:00 PM + Bingo begins: 7:00 PM\nđź“ŤElks Lodge #1
 659\n120 N Main St.\, Flora\, IL\nđźŽźTickets: $30\nAll proceeds support CASA
  for Kids and our mission to advocate for children who have experienced ab
 use or neglect.\nđź‘‰Purchase tickets: https://checkout.page/s/gZFYyYASPWOPg
 \nor call (855) 484â€‘6403
DTSTART;TZID=America/Chicago:20260417T190000
DTEND;TZID=America/Chicago:20260417T220000
LOCATION:Elks Lodge #1659\, 120 N Main St\, Flora\, IL 62839 US
SUMMARY:Purse Bingo @ Flora Elks Lodge
END:VEVENT
END:VCALENDAR
