BEGIN:VCALENDAR
VERSION:2.0
PRODID:-//casa4change.org//NONSGML kigkonsult.se iCalcreator 2.30.10//
CALSCALE:GREGORIAN
METHOD:PUBLISH
UID:d209f2d9-8d26-4dfe-8486-ffef5bed8687
X-WR-CALDESC:CASA staff will present our mission and impact at the Fairfiel
 d City Council meeting.
X-WR-RELCALID:78f5a3ba5b3e8da9b730b01ce4e1488f
X-WR-TIMEZONE:America/Chicago
BEGIN:VTIMEZONE
TZID:America/Chicago
BEGIN:STANDARD
TZNAME:CST
DTSTART:20251102T020000
TZOFFSETFROM:-0500
TZOFFSETTO:-0600
RDATE:20261101T020000
END:STANDARD
BEGIN:DAYLIGHT
TZNAME:CDT
DTSTART:20260308T020000
TZOFFSETFROM:-0600
TZOFFSETTO:-0500
RDATE:20270314T020000
END:DAYLIGHT
END:VTIMEZONE
BEGIN:VEVENT
UID:8a69ce3d-78b4-41f7-b659-aabe6ef41cc7
DTSTAMP:20260425T122223Z
DESCRIPTION:CASA staff will present our mission and impact at the Fairfield
  City Council meeting.
DTSTART;TZID=America/Chicago:20260414T180000
DTEND;TZID=America/Chicago:20260414T190000
LOCATION:
SUMMARY:CASA @ Fairfield City Council
END:VEVENT
END:VCALENDAR
