BEGIN:VCALENDAR
VERSION:2.0
PRODID:-//casa4change.org//NONSGML kigkonsult.se iCalcreator 2.30.10//
CALSCALE:GREGORIAN
METHOD:PUBLISH
UID:cd574500-5ebf-4833-b6e8-2d177cdf1a97
X-WR-CALDESC:✨ Lunch & Learn with CASA for Kids ✨\nJoin us this April\, Chi
 ld Abuse Prevention Month\, for a special Lunch & Learn hosted by CASA for
  Kids! Discover how you can make a meaningful impact in the lives of child
 ren in foster care in Clinton County by becoming a CASA advocate.\n📅Tuesda
 y\, April 14th\n⏰ 12–1 PM\n📍Life Church Carlyle\, 16580 Old State Rd\, Car
 lyle\, IL\nRegister by Friday\, April 10th to save your spot!\n🔗Register o
 nline: https://form.jotform.com/260353974890164\nLet’s learn\, connect\, a
 nd make a difference together!
X-WR-RELCALID:a20c0f89fe29943d082e3d5cb5fa095c
X-WR-TIMEZONE:America/Chicago
BEGIN:VTIMEZONE
TZID:America/Chicago
BEGIN:STANDARD
TZNAME:CST
DTSTART:20251102T020000
TZOFFSETFROM:-0500
TZOFFSETTO:-0600
RDATE:20261101T020000
END:STANDARD
BEGIN:DAYLIGHT
TZNAME:CDT
DTSTART:20260308T020000
TZOFFSETFROM:-0600
TZOFFSETTO:-0500
RDATE:20270314T020000
END:DAYLIGHT
END:VTIMEZONE
BEGIN:VEVENT
UID:fd33d628-8c04-4090-985b-92202593a10d
DTSTAMP:20260425T123619Z
DESCRIPTION:✨ Lunch & Learn with CASA for Kids ✨\nJoin us this April\, Chil
 d Abuse Prevention Month\, for a special Lunch & Learn hosted by CASA for 
 Kids! Discover how you can make a meaningful impact in the lives of childr
 en in foster care in Clinton County by becoming a CASA advocate.\n📅Tuesday
 \, April 14th\n⏰ 12–1 PM\n📍Life Church Carlyle\, 16580 Old State Rd\, Carl
 yle\, IL\nRegister by Friday\, April 10th to save your spot!\n🔗Register on
 line: https://form.jotform.com/260353974890164\nLet’s learn\, connect\, an
 d make a difference together!
DTSTART;TZID=America/Chicago:20260414T120000
DTEND;TZID=America/Chicago:20260414T130000
LOCATION:16580 Old State Rd\, Carlyle\, IL 62448 US
SUMMARY:Carlyle Life Church Lunch & Learn
END:VEVENT
END:VCALENDAR
