BEGIN:VCALENDAR
VERSION:2.0
PRODID:-//casa4change.org//NONSGML kigkonsult.se iCalcreator 2.30.10//
CALSCALE:GREGORIAN
METHOD:PUBLISH
UID:95c915ed-923a-4c10-8668-24b8894fc206
X-WR-CALDESC:Flo's Coffee Bar in Newton\, IL is generously hosting a tip do
 nation day for CASA for Kids on Friday\, April 10! Stop by from 7a - 1p an
 d leave a tip for CASA!
X-WR-RELCALID:96ed7afdf2ee9c2b050472cbc2aa553c
X-WR-TIMEZONE:America/Chicago
BEGIN:VTIMEZONE
TZID:America/Chicago
BEGIN:STANDARD
TZNAME:CST
DTSTART:20251102T020000
TZOFFSETFROM:-0500
TZOFFSETTO:-0600
RDATE:20261101T020000
END:STANDARD
BEGIN:DAYLIGHT
TZNAME:CDT
DTSTART:20260308T020000
TZOFFSETFROM:-0600
TZOFFSETTO:-0500
RDATE:20270314T020000
END:DAYLIGHT
END:VTIMEZONE
BEGIN:VEVENT
UID:4ac4b7aa-5f8d-49f1-85aa-57e9ef4cc9a0
DTSTAMP:20260425T120148Z
DESCRIPTION:Flo's Coffee Bar in Newton\, IL is generously hosting a tip don
 ation day for CASA for Kids on Friday\, April 10! Stop by from 7a - 1p and
  leave a tip for CASA!
DTSTART;TZID=America/Chicago:20260410T070000
DTEND;TZID=America/Chicago:20260410T130000
LOCATION:507 W Jourdan St\, Newton\, IL 62448 US
SUMMARY:Flo's Coffee Bar Tip Donation Day for CASA
END:VEVENT
END:VCALENDAR
