BEGIN:VCALENDAR
VERSION:2.0
PRODID:-//casa4change.org//NONSGML kigkonsult.se iCalcreator 2.30.10//
CALSCALE:GREGORIAN
METHOD:PUBLISH
UID:5c0ea1ff-9988-4199-8c5a-7162ceb686e3
X-WR-CALDESC:CASA with present to the Wayne County Board.
X-WR-RELCALID:e85743483157d4d144c81eecd9484e26
X-WR-TIMEZONE:America/Chicago
BEGIN:VTIMEZONE
TZID:America/Chicago
BEGIN:STANDARD
TZNAME:CST
DTSTART:20251102T020000
TZOFFSETFROM:-0500
TZOFFSETTO:-0600
RDATE:20261101T020000
END:STANDARD
BEGIN:DAYLIGHT
TZNAME:CDT
DTSTART:20260308T020000
TZOFFSETFROM:-0600
TZOFFSETTO:-0500
RDATE:20270314T020000
END:DAYLIGHT
END:VTIMEZONE
BEGIN:VEVENT
UID:ccdeda7e-82b8-445a-be70-422b562ba5d8
DTSTAMP:20260425T120337Z
DESCRIPTION:CASA with present to the Wayne County Board.
DTSTART;TZID=America/Chicago:20260409T190000
DTEND;TZID=America/Chicago:20260409T200000
LOCATION:
SUMMARY:CASA @ Wayne County Board
END:VEVENT
END:VCALENDAR
