BEGIN:VCALENDAR
VERSION:2.0
PRODID:-//casa4change.org//NONSGML kigkonsult.se iCalcreator 2.30.10//
CALSCALE:GREGORIAN
METHOD:PUBLISH
UID:8ce0d0fb-7e33-439b-9428-be031a7999b0
X-WR-CALDESC:Please join us as Franklin County declares April as Child Abus
 e Prevention Month! This Franklin County event is in partnership with CASA
  for Kids\, Prevent Child Abuse Illinois\, Franklin County Sheriff's Offic
 e\, Southern Illinois Youth Empowerment Network\, and Franklin/Williamson 
 ROSC Council.
X-WR-RELCALID:10252993ee6c24f23c8b719807a24a0f
X-WR-TIMEZONE:America/Chicago
BEGIN:VTIMEZONE
TZID:America/Chicago
BEGIN:STANDARD
TZNAME:CST
DTSTART:20251102T020000
TZOFFSETFROM:-0500
TZOFFSETTO:-0600
RDATE:20261101T020000
END:STANDARD
BEGIN:DAYLIGHT
TZNAME:CDT
DTSTART:20260308T020000
TZOFFSETFROM:-0600
TZOFFSETTO:-0500
RDATE:20270314T020000
END:DAYLIGHT
END:VTIMEZONE
BEGIN:VEVENT
UID:87f1d090-c2da-4bc3-b309-b4e1b5cb1884
DTSTAMP:20260425T115502Z
DESCRIPTION:Please join us as Franklin County declares April as Child Abuse
  Prevention Month! This Franklin County event is in partnership with CASA 
 for Kids\, Prevent Child Abuse Illinois\, Franklin County Sheriff's Office
 \, Southern Illinois Youth Empowerment Network\, and Franklin/Williamson R
 OSC Council.
DTSTART;TZID=America/Chicago:20260408T173000
DTEND;TZID=America/Chicago:20260408T190000
LOCATION:Franklin County Courthouse\, 100 Public Square\, Benton\, IL 62812
  US
SUMMARY:Franklin County CAPM Proclamation Reading
END:VEVENT
END:VCALENDAR
