BEGIN:VCALENDAR
VERSION:2.0
PRODID:-//casa4change.org//NONSGML kigkonsult.se iCalcreator 2.30.10//
CALSCALE:GREGORIAN
METHOD:PUBLISH
UID:419ea6e6-d530-404e-9950-37ce4ebe10ec
X-WR-CALDESC:CASA staff will present to EHS staff members and explain the C
 ASA + Classroom Connection.
X-WR-RELCALID:ad049f1257a8e40462cc9c95fcc84045
X-WR-TIMEZONE:America/Chicago
BEGIN:VTIMEZONE
TZID:America/Chicago
BEGIN:STANDARD
TZNAME:CST
DTSTART:20251102T020000
TZOFFSETFROM:-0500
TZOFFSETTO:-0600
RDATE:20261101T020000
END:STANDARD
BEGIN:DAYLIGHT
TZNAME:CDT
DTSTART:20260308T020000
TZOFFSETFROM:-0600
TZOFFSETTO:-0500
RDATE:20270314T020000
END:DAYLIGHT
END:VTIMEZONE
BEGIN:VEVENT
UID:302aa30b-d351-4c55-b163-1052dabb5294
DTSTAMP:20260425T120337Z
DESCRIPTION:CASA staff will present to EHS staff members and explain the CA
 SA + Classroom Connection.
DTSTART;TZID=America/Chicago:20260408T150000
DTEND;TZID=America/Chicago:20260408T153000
LOCATION:
SUMMARY:CASA @ EHS
END:VEVENT
END:VCALENDAR
