BEGIN:VCALENDAR
VERSION:2.0
PRODID:-//casa4change.org//NONSGML kigkonsult.se iCalcreator 2.30.10//
CALSCALE:GREGORIAN
METHOD:PUBLISH
UID:e7605348-da23-497a-badf-1c2663ebf708
X-WR-CALDESC:CASA will be present at the Vandalia City Council meeting on A
 pril 6 for the April Child Abuse Prevention Month Proclamation Reading by 
 Mayor Doug Knebel.
X-WR-RELCALID:a0f12ea4d5ebc73316f7639d4516905f
X-WR-TIMEZONE:America/Chicago
BEGIN:VTIMEZONE
TZID:America/Chicago
BEGIN:STANDARD
TZNAME:CST
DTSTART:20251102T020000
TZOFFSETFROM:-0500
TZOFFSETTO:-0600
RDATE:20261101T020000
END:STANDARD
BEGIN:DAYLIGHT
TZNAME:CDT
DTSTART:20260308T020000
TZOFFSETFROM:-0600
TZOFFSETTO:-0500
RDATE:20270314T020000
END:DAYLIGHT
END:VTIMEZONE
BEGIN:VEVENT
UID:b38aaf0e-03b1-4dfa-9646-bea640e369a3
DTSTAMP:20260425T122700Z
DESCRIPTION:CASA will be present at the Vandalia City Council meeting on Ap
 ril 6 for the April Child Abuse Prevention Month Proclamation Reading by M
 ayor Doug Knebel.
DTSTART;TZID=America/Chicago:20260406T180000
DTEND;TZID=America/Chicago:20260406T190000
LOCATION:
SUMMARY:Vandalia City Council CAP Month Proclamation
END:VEVENT
END:VCALENDAR
