BEGIN:VCALENDAR
VERSION:2.0
PRODID:-//casa4change.org//NONSGML kigkonsult.se iCalcreator 2.30.10//
CALSCALE:GREGORIAN
METHOD:PUBLISH
UID:e0384883-9825-491a-9053-93ec71fc9103
X-WR-CALDESC:CASA will be presenting at the Johnsonville Community Ruritan 
 Club.
X-WR-RELCALID:6e369420427e132cf895b0cff467acd5
X-WR-TIMEZONE:America/Chicago
BEGIN:VTIMEZONE
TZID:America/Chicago
BEGIN:STANDARD
TZNAME:CST
DTSTART:20251102T020000
TZOFFSETFROM:-0500
TZOFFSETTO:-0600
RDATE:20261101T020000
END:STANDARD
BEGIN:DAYLIGHT
TZNAME:CDT
DTSTART:20260308T020000
TZOFFSETFROM:-0600
TZOFFSETTO:-0500
RDATE:20270314T020000
END:DAYLIGHT
END:VTIMEZONE
BEGIN:VEVENT
UID:12691f2f-30d2-4ba8-b699-fe60fc168c75
DTSTAMP:20260425T115501Z
DESCRIPTION:CASA will be presenting at the Johnsonville Community Ruritan C
 lub.
DTSTART;TZID=America/Chicago:20260406T190000
DTEND;TZID=America/Chicago:20260406T200000
LOCATION:206 W Walnut St\, Johnsonville\, IL 62850 US
SUMMARY:CASA @ Johnsonville Community Ruritan Club
END:VEVENT
END:VCALENDAR
