BEGIN:VCALENDAR
VERSION:2.0
PRODID:-//casa4change.org//NONSGML kigkonsult.se iCalcreator 2.30.10//
CALSCALE:GREGORIAN
METHOD:PUBLISH
UID:3cbf23cd-3288-43be-8b54-a9875694c321
X-WR-CALDESC:Save the Date! This Spring\, the Greater Centralia Chamber of 
 Commerce is focused on highlighting businesses and non-profits in our regi
 on. This is a FREE event for the public to come out and see what the Quad-
 County area has to offer.\nThis is a one-day event\, taking place on Satur
 day\, March 28\, 2026\, from 8:00am - 5:00pm.
X-WR-RELCALID:eb0358d243af17efc3399d5a160d00b3
X-WR-TIMEZONE:America/Chicago
BEGIN:VTIMEZONE
TZID:America/Chicago
BEGIN:STANDARD
TZNAME:CST
DTSTART:20251102T020000
TZOFFSETFROM:-0500
TZOFFSETTO:-0600
RDATE:20261101T020000
END:STANDARD
BEGIN:DAYLIGHT
TZNAME:CDT
DTSTART:20260308T020000
TZOFFSETFROM:-0600
TZOFFSETTO:-0500
RDATE:20270314T020000
END:DAYLIGHT
END:VTIMEZONE
BEGIN:VEVENT
UID:a5368575-50cb-4833-9814-b404c6de61bf
DTSTAMP:20260425T134720Z
DESCRIPTION:Save the Date! This Spring\, the Greater Centralia Chamber of C
 ommerce is focused on highlighting businesses and non-profits in our regio
 n. This is a FREE event for the public to come out and see what the Quad-C
 ounty area has to offer.\nThis is a one-day event\, taking place on Saturd
 ay\, March 28\, 2026\, from 8:00am - 5:00pm.
DTSTART;TZID=America/Chicago:20260328T080000
DTEND;TZID=America/Chicago:20260328T170000
LOCATION:Kaskaskia College Gymnasium\, 27210 College Rd\, Centralia\, IL 62
 801 US
SUMMARY:Centralia Chamber Regional Business Expo
END:VEVENT
END:VCALENDAR
