BEGIN:VCALENDAR
VERSION:2.0
PRODID:-//casa4change.org//NONSGML kigkonsult.se iCalcreator 2.30.10//
CALSCALE:GREGORIAN
METHOD:PUBLISH
UID:8e76a1d7-3fe6-4e86-9311-e0b00b6fab75
X-WR-CALDESC:Come learn about all the resources available to families in Cl
 ay County! CASA for Kids will have a booth with program literature and act
 ivities. We'd love to meet you!
X-WR-RELCALID:a888b71755865c999c99ce17293abc35
X-WR-TIMEZONE:America/Chicago
BEGIN:VTIMEZONE
TZID:America/Chicago
BEGIN:STANDARD
TZNAME:CST
DTSTART:20251102T020000
TZOFFSETFROM:-0500
TZOFFSETTO:-0600
RDATE:20261101T020000
END:STANDARD
BEGIN:DAYLIGHT
TZNAME:CDT
DTSTART:20260308T020000
TZOFFSETFROM:-0600
TZOFFSETTO:-0500
RDATE:20270314T020000
END:DAYLIGHT
END:VTIMEZONE
BEGIN:VEVENT
UID:140afaca-b62f-48f5-a7a0-d7a31e5700d5
DTSTAMP:20260425T133808Z
DESCRIPTION:Come learn about all the resources available to families in Cla
 y County! CASA for Kids will have a booth with program literature and acti
 vities. We'd love to meet you!
DTSTART;TZID=America/Chicago:20260327T090000
DTEND;TZID=America/Chicago:20260327T120000
LOCATION:Nostalgia Theater\, 120 North Ave E\, Flora\, IL 62839 US
SUMMARY:Clay County Hospital Family Resource Fair
END:VEVENT
END:VCALENDAR
