BEGIN:VCALENDAR
VERSION:2.0
PRODID:-//casa4change.org//NONSGML kigkonsult.se iCalcreator 2.30.10//
CALSCALE:GREGORIAN
METHOD:PUBLISH
UID:774dc28a-72fa-4689-9c14-2a077b27e977
X-WR-CALDESC:CASA will be presenting at the Geff Ruritan Club meeting.
X-WR-RELCALID:6f3b2fedc393db10c006a76335ab1b10
X-WR-TIMEZONE:America/Chicago
BEGIN:VTIMEZONE
TZID:America/Chicago
BEGIN:STANDARD
TZNAME:CST
DTSTART:20251102T020000
TZOFFSETFROM:-0500
TZOFFSETTO:-0600
RDATE:20261101T020000
END:STANDARD
BEGIN:DAYLIGHT
TZNAME:CDT
DTSTART:20260308T020000
TZOFFSETFROM:-0600
TZOFFSETTO:-0500
RDATE:20270314T020000
END:DAYLIGHT
END:VTIMEZONE
BEGIN:VEVENT
UID:cd58ebb8-f5e9-4527-ad91-747ca8b6c9e7
DTSTAMP:20260425T134341Z
DESCRIPTION:CASA will be presenting at the Geff Ruritan Club meeting.
DTSTART;TZID=America/Chicago:20260326T180000
DTEND;TZID=America/Chicago:20260326T190000
LOCATION:112 W Jefferson St\, Jeffersonville\, IL 62842 US
SUMMARY:CASA @ Geff Ruritan Club
END:VEVENT
END:VCALENDAR
