BEGIN:VCALENDAR
VERSION:2.0
PRODID:-//casa4change.org//NONSGML kigkonsult.se iCalcreator 2.30.10//
CALSCALE:GREGORIAN
METHOD:PUBLISH
UID:86768eda-0803-4870-b06a-1c74a42336b3
X-WR-CALDESC:CASA staff\, Amanda and Michelle\, will be presenting CASA for
  Kid's mission to the Carmi Rotary Club on March 12th at noon.
X-WR-RELCALID:4ddf7586e1ea48e84f48427f03db3096
X-WR-TIMEZONE:America/Chicago
BEGIN:VTIMEZONE
TZID:America/Chicago
BEGIN:STANDARD
TZNAME:CST
DTSTART:20251102T020000
TZOFFSETFROM:-0500
TZOFFSETTO:-0600
RDATE:20261101T020000
END:STANDARD
BEGIN:DAYLIGHT
TZNAME:CDT
DTSTART:20260308T020000
TZOFFSETFROM:-0600
TZOFFSETTO:-0500
RDATE:20270314T020000
END:DAYLIGHT
END:VTIMEZONE
BEGIN:VEVENT
UID:dcbc4fa3-0139-4ca4-b3ec-56e376540128
DTSTAMP:20260425T133232Z
DESCRIPTION:CASA staff\, Amanda and Michelle\, will be presenting CASA for 
 Kid's mission to the Carmi Rotary Club on March 12th at noon.
DTSTART;TZID=America/Chicago:20260312T120000
DTEND;TZID=America/Chicago:20260312T130000
LOCATION:100 S Church St\, Carmi\, IL 62821 US
SUMMARY:CASA @ Rotary Club of Carmi
END:VEVENT
END:VCALENDAR
