BEGIN:VCALENDAR
VERSION:2.0
PRODID:-//casa4change.org//NONSGML kigkonsult.se iCalcreator 2.30.10//
CALSCALE:GREGORIAN
METHOD:PUBLISH
UID:0d8f063c-d93e-474d-87d6-4d3fca0612d4
X-WR-CALDESC:CASA will be presenting at the Fairfield Rotary Club on Thursd
 ay\, March 5th at noon.
X-WR-RELCALID:f56deae20b4da21511e347a0f4d74309
X-WR-TIMEZONE:America/Chicago
BEGIN:VTIMEZONE
TZID:America/Chicago
BEGIN:STANDARD
TZNAME:CST
DTSTART:20251102T020000
TZOFFSETFROM:-0500
TZOFFSETTO:-0600
RDATE:20261101T020000
END:STANDARD
BEGIN:DAYLIGHT
TZNAME:CDT
DTSTART:20250309T020000
TZOFFSETFROM:-0600
TZOFFSETTO:-0500
RDATE:20260308T020000
RDATE:20270314T020000
END:DAYLIGHT
END:VTIMEZONE
BEGIN:VEVENT
UID:da8fb842-89a4-4669-b1d7-6365fcda475f
DTSTAMP:20260425T133651Z
DESCRIPTION:CASA will be presenting at the Fairfield Rotary Club on Thursda
 y\, March 5th at noon.
DTSTART;TZID=America/Chicago:20260305T120000
DTEND;TZID=America/Chicago:20260305T130000
LOCATION:
SUMMARY:CASA @ Fairfield Rotary
END:VEVENT
END:VCALENDAR
