BEGIN:VCALENDAR
VERSION:2.0
PRODID:-//casa4change.org//NONSGML kigkonsult.se iCalcreator 2.30.10//
CALSCALE:GREGORIAN
METHOD:PUBLISH
UID:28044fb9-6188-413f-9c15-2eeb21951f82
X-WR-CALDESC:CASA for Kids will be sharing how businesses in Fayette County
  can support CASA for Kids' mission and raise awareness during Child Abuse
  Prevention Month in April.
X-WR-RELCALID:23db1e6d839a406a28211992d9e213de
X-WR-TIMEZONE:America/Chicago
BEGIN:VTIMEZONE
TZID:America/Chicago
BEGIN:STANDARD
TZNAME:CST
DTSTART:20251102T020000
TZOFFSETFROM:-0500
TZOFFSETTO:-0600
RDATE:20261101T020000
END:STANDARD
BEGIN:DAYLIGHT
TZNAME:CDT
DTSTART:20250309T020000
TZOFFSETFROM:-0600
TZOFFSETTO:-0500
RDATE:20260308T020000
RDATE:20270314T020000
END:DAYLIGHT
END:VTIMEZONE
BEGIN:VEVENT
UID:0cead89d-09fe-488f-a269-f6cb19a096c5
DTSTAMP:20260425T135228Z
DESCRIPTION:CASA for Kids will be sharing how businesses in Fayette County 
 can support CASA for Kids' mission and raise awareness during Child Abuse 
 Prevention Month in April.
DTSTART;TZID=America/Chicago:20260304T120000
DTEND;TZID=America/Chicago:20260304T130000
LOCATION:
SUMMARY:CASA @ Fayette Co. Chamber
END:VEVENT
END:VCALENDAR
