BEGIN:VCALENDAR
VERSION:2.0
PRODID:-//casa4change.org//NONSGML kigkonsult.se iCalcreator 2.30.10//
CALSCALE:GREGORIAN
METHOD:PUBLISH
UID:914b27cf-5952-4384-9fa3-e59add1ddff7
X-WR-CALDESC:Come join us for our 2026 Music Trivia Fundraiser!\nIt’s going
  to be a great night of fun while supporting a wonderful cause in your loc
 al community! We can't wait to see you there! 💙️\nHere's what to expect:\n
 -Doors open at 6pm for registration & table setup.\n-Trivia starts at 7pm.
 \n-Table decorating encouraged!\n-Bring your favorite snacks! CASA is prov
 iding light snacks.\n-Beverages/alcohol are available for purchase at the 
 bar!\n-Mulligans available! $20 per table/team.\n-Raffle tickets available
 ! $20 for 20 tickets. We are raffling off items from local businesses!\n-C
 ash/check is the preferred payment type.\n-An ATM is available on site.\nC
 an't make it to the event but still want to support your local CASA and ou
 r mission? We are looking for Round Sponsors\, Food Sponsors\, & Entertain
 ment Sponsors for $200 each! We'll thank you and recognize your generous s
 ponsorship by shouting you out at the event multiple times and on our soci
 al media!
X-WR-RELCALID:68dc9bc1714dfb673273f3b2f12e7b7d
X-WR-TIMEZONE:America/Chicago
BEGIN:VTIMEZONE
TZID:America/Chicago
BEGIN:STANDARD
TZNAME:CST
DTSTART:20251102T020000
TZOFFSETFROM:-0500
TZOFFSETTO:-0600
RDATE:20261101T020000
END:STANDARD
BEGIN:DAYLIGHT
TZNAME:CDT
DTSTART:20250309T020000
TZOFFSETFROM:-0600
TZOFFSETTO:-0500
RDATE:20260308T020000
RDATE:20270314T020000
END:DAYLIGHT
END:VTIMEZONE
BEGIN:VEVENT
UID:b148fd4c-57f7-4eef-87db-0f7ea16044ad
DTSTAMP:20260425T154819Z
DESCRIPTION:Come join us for our 2026 Music Trivia Fundraiser!\nIt’s going 
 to be a great night of fun while supporting a wonderful cause in your loca
 l community! We can't wait to see you there! 💙️\nHere's what to expect:\n-
 Doors open at 6pm for registration & table setup.\n-Trivia starts at 7pm.
 \n-Table decorating encouraged!\n-Bring your favorite snacks! CASA is prov
 iding light snacks.\n-Beverages/alcohol are available for purchase at the 
 bar!\n-Mulligans available! $20 per table/team.\n-Raffle tickets available
 ! $20 for 20 tickets. We are raffling off items from local businesses!\n-C
 ash/check is the preferred payment type.\n-An ATM is available on site.\nC
 an't make it to the event but still want to support your local CASA and ou
 r mission? We are looking for Round Sponsors\, Food Sponsors\, & Entertain
 ment Sponsors for $200 each! We'll thank you and recognize your generous s
 ponsorship by shouting you out at the event multiple times and on our soci
 al media!
DTSTART;TZID=America/Chicago:20260227T190000
DTEND;TZID=America/Chicago:20260227T220000
LOCATION:117 W Market St\, Christopher\, IL 62822 US
SUMMARY:2026 Music Trivia Fundraiser
END:VEVENT
END:VCALENDAR
