BEGIN:VCALENDAR
VERSION:2.0
PRODID:-//casa4change.org//NONSGML kigkonsult.se iCalcreator 2.30.10//
CALSCALE:GREGORIAN
METHOD:PUBLISH
UID:68132e95-1a70-4134-a6df-52c1cddc33ee
X-WR-CALDESC:You’re invited to join CASA for Kids for a Lunch & Learn — a r
 elaxed\, informative session where you can enjoy a meal and learn how ever
 yday people can make an extraordinary difference for children in foster ca
 re in Jasper County.\n\n🕠hursday\, Feb. 26th\, 12-1p\n📍ewton Public Librar
 y\n✔️RSVP by Feb. 17th\n\nThere are currently 35 children in foster care i
 n Jasper County. Children navigating the foster care system often face ins
 tability and uncertainty. CASA volunteers provide something powerful: a co
 nsistent adult who advocates for their best interests in court\, in school
 \, and in the community. At this Lunch & Learn\, you’ll hear how the progr
 am works\, what volunteers do\, and how you can get involved\, whether as 
 an advocate or community partner.\nRSVP by calling/texting Zoe at (217) 82
 1-4657 or filling out a form: https://form.jotform.com/260353974890164\n\n
 Learn more about CASA's mission at casa4change.org.
X-WR-RELCALID:a105037597a5b406002159085bd3ffbe
X-WR-TIMEZONE:America/Chicago
BEGIN:VTIMEZONE
TZID:America/Chicago
BEGIN:STANDARD
TZNAME:CST
DTSTART:20251102T020000
TZOFFSETFROM:-0500
TZOFFSETTO:-0600
RDATE:20261101T020000
END:STANDARD
BEGIN:DAYLIGHT
TZNAME:CDT
DTSTART:20250309T020000
TZOFFSETFROM:-0600
TZOFFSETTO:-0500
RDATE:20260308T020000
RDATE:20270314T020000
END:DAYLIGHT
END:VTIMEZONE
BEGIN:VEVENT
UID:b22134e8-d531-4086-a43a-afdc2cf4bedc
DTSTAMP:20260425T151325Z
DESCRIPTION:You’re invited to join CASA for Kids for a Lunch & Learn — a re
 laxed\, informative session where you can enjoy a meal and learn how every
 day people can make an extraordinary difference for children in foster car
 e in Jasper County.\n\n🕠hursday\, Feb. 26th\, 12-1p\n📍ewton Public Library
 \nn️RSVP by Feb. 17th\n\nThere are currently 35 children in foster care in
  Jasper County. Children navigating the foster care system often face inst
 ability and uncertainty. CASA volunteers provide something powerful: a con
 sistent adult who advocates for their best interests in court\, in school\
 , and in the community. At this Lunch & Learn\, you’ll hear how the progra
 m works\, what volunteers do\, and how you can get involved\, whether as a
 n advocate or community partner.\nRSVP by calling/texting Zoe at (217) 821
 -4657 or filling out a form: https://form.jotform.com/260353974890164\n\nL
 earn more about CASA's mission at casa4change.org.
DTSTART;TZID=America/Chicago:20260226T120000
DTEND;TZID=America/Chicago:20260226T130000
LOCATION:100 S Van Buren St\, Newton\, IL 62448 US
SUMMARY:Lunch & Learn @ Newton Public Library
END:VEVENT
END:VCALENDAR
