BEGIN:VCALENDAR
VERSION:2.0
PRODID:-//casa4change.org//NONSGML kigkonsult.se iCalcreator 2.30.10//
CALSCALE:GREGORIAN
METHOD:PUBLISH
UID:a80d8b2e-02b1-49bd-99ff-328078fed6f3
X-WR-CALDESC:You’re invited to join CASA for Kids at Joe Sippers Cafe for a
  relaxed\, informative session where you can learn how everyday people can
  make an extraordinary difference for children in foster care in Effingham
  County.\n🕛Tuesday\, Feb. 24th\, 5-6p\n📍oe Sippers Cafe\nThere are current
 ly 76 children in foster care in Effingham County. Children navigating the
  foster care system often face instability and uncertainty. CASA volunteer
 s provide something powerful: a consistent adult who advocates for their b
 est interests in court\, in school\, and in the community. Stop by Joe Sip
 pers to hear how the program works\, what volunteers do\, and how you can 
 get involved\, whether as a volunteer or community partner.
X-WR-RELCALID:a5f5c8f6dda762c43c1e49a181a9aa12
X-WR-TIMEZONE:America/Chicago
BEGIN:VTIMEZONE
TZID:America/Chicago
BEGIN:STANDARD
TZNAME:CST
DTSTART:20251102T020000
TZOFFSETFROM:-0500
TZOFFSETTO:-0600
RDATE:20261101T020000
END:STANDARD
BEGIN:DAYLIGHT
TZNAME:CDT
DTSTART:20250309T020000
TZOFFSETFROM:-0600
TZOFFSETTO:-0500
RDATE:20260308T020000
RDATE:20270314T020000
END:DAYLIGHT
END:VTIMEZONE
BEGIN:VEVENT
UID:da6dfda8-61eb-46e5-bcf6-f1b7ea4e894d
DTSTAMP:20260425T152301Z
DESCRIPTION:You’re invited to join CASA for Kids at Joe Sippers Cafe for a 
 relaxed\, informative session where you can learn how everyday people can 
 make an extraordinary difference for children in foster care in Effingham 
 County.\n🕛Tuesday\, Feb. 24th\, 5-6p\n📍oe Sippers Cafe\nThere are currentl
 y 76 children in foster care in Effingham County. Children navigating the 
 foster care system often face instability and uncertainty. CASA volunteers
  provide something powerful: a consistent adult who advocates for their be
 st interests in court\, in school\, and in the community. Stop by Joe Sipp
 ers to hear how the program works\, what volunteers do\, and how you can g
 et involved\, whether as a volunteer or community partner.
DTSTART;TZID=America/Chicago:20260224T170000
DTEND;TZID=America/Chicago:20260224T180000
LOCATION:114 S 4th St\, Effingham\, IL 62401 US
SUMMARY:Volunteer Info Night @ Joe Sippers Cafe
END:VEVENT
END:VCALENDAR
