BEGIN:VCALENDAR
VERSION:2.0
PRODID:-//casa4change.org//NONSGML kigkonsult.se iCalcreator 2.30.10//
CALSCALE:GREGORIAN
METHOD:PUBLISH
UID:14275f0d-26f1-4e73-8286-00c897ad121e
X-WR-CALDESC:Come learn how you can change a child's life in foster care!\n
 Grab a friend and join CASA for Kids at Evans Public Library! This will be
  a relaxed\, informative session where you can learn how to make an extrao
 rdinary difference for children in foster care in Fayette County by volunt
 eering a few hours each month. We'll provide snacks and conversation on CA
 SA's mission and impact in Fayette County.\n\n*Monday\, Feb. 23rd\n*5:00p 
 - 6:00p\n*Evans Public Library in Vandalia\n\nThis is your next step to be
 coming a passionate advocate for children in foster care in your community
 . No RSVP required. We'll see you there!
X-WR-RELCALID:1c91483fa31688c60049880b4aa6d586
X-WR-TIMEZONE:America/Chicago
BEGIN:VTIMEZONE
TZID:America/Chicago
BEGIN:STANDARD
TZNAME:CST
DTSTART:20251102T020000
TZOFFSETFROM:-0500
TZOFFSETTO:-0600
RDATE:20261101T020000
END:STANDARD
BEGIN:DAYLIGHT
TZNAME:CDT
DTSTART:20250309T020000
TZOFFSETFROM:-0600
TZOFFSETTO:-0500
RDATE:20260308T020000
RDATE:20270314T020000
END:DAYLIGHT
END:VTIMEZONE
BEGIN:VEVENT
UID:f97484f9-9923-4922-b51e-1521eb5a49f5
DTSTAMP:20260425T152609Z
DESCRIPTION:Come learn how you can change a child's life in foster care!\nG
 rab a friend and join CASA for Kids at Evans Public Library! This will be 
 a relaxed\, informative session where you can learn how to make an extraor
 dinary difference for children in foster care in Fayette County by volunte
 ering a few hours each month. We'll provide snacks and conversation on CAS
 A's mission and impact in Fayette County.\n\n*Monday\, Feb. 23rd\n*5:00p -
  6:00p\n*Evans Public Library in Vandalia\n\nThis is your next step to bec
 oming a passionate advocate for children in foster care in your community.
  No RSVP required. We'll see you there!
DTSTART;TZID=America/Chicago:20260223T170000
DTEND;TZID=America/Chicago:20260223T180000
LOCATION:825 W Randolph St\, Vandalia\, IL 62401 US
SUMMARY:Volunteer Info Night @ Evans Public Library
END:VEVENT
END:VCALENDAR
