BEGIN:VCALENDAR
VERSION:2.0
PRODID:-//casa4change.org//NONSGML kigkonsult.se iCalcreator 2.30.10//
CALSCALE:GREGORIAN
METHOD:PUBLISH
UID:cc555f7a-b3c6-497d-a137-b122660534ec
X-WR-CALDESC:Tune into WFIW Radio on Thursday\, February 19th at 9am to hea
 r CASA staffers\, Michelle and Tina\, share the CASA mission and upcoming 
 events.
X-WR-RELCALID:dcf49377064c9b2a07bfa6ae76fe3f07
X-WR-TIMEZONE:America/Chicago
BEGIN:VTIMEZONE
TZID:America/Chicago
BEGIN:STANDARD
TZNAME:CST
DTSTART:20251102T020000
TZOFFSETFROM:-0500
TZOFFSETTO:-0600
RDATE:20261101T020000
END:STANDARD
BEGIN:DAYLIGHT
TZNAME:CDT
DTSTART:20250309T020000
TZOFFSETFROM:-0600
TZOFFSETTO:-0500
RDATE:20260308T020000
RDATE:20270314T020000
END:DAYLIGHT
END:VTIMEZONE
BEGIN:VEVENT
UID:0afe7ad4-c17c-4127-ba7d-5a3b7960e634
DTSTAMP:20260425T155220Z
DESCRIPTION:Tune into WFIW Radio on Thursday\, February 19th at 9am to hear
  CASA staffers\, Michelle and Tina\, share the CASA mission and upcoming e
 vents.
DTSTART;TZID=America/Chicago:20260219T090000
DTEND;TZID=America/Chicago:20260219T100000
LOCATION:
SUMMARY:WFIW Radio Interview
END:VEVENT
END:VCALENDAR
