BEGIN:VCALENDAR
VERSION:2.0
PRODID:-//casa4change.org//NONSGML kigkonsult.se iCalcreator 2.30.10//
CALSCALE:GREGORIAN
METHOD:PUBLISH
UID:e86c81cf-e206-4c45-a119-fafd8b8c1b83
X-WR-CALDESC:You’re invited to join CASA for Kids for a Lunch & Learn — a r
 elaxed\, informative session where you can enjoy a meal and learn how ever
 yday people can make an extraordinary difference for children in foster ca
 re in Clay County.\n\n🕛Thursday\, Feb. 19th\, 12-1p\n📍hrist’s Church in Fl
 ora\n✔️RSVP by Feb. 17th\n\nThere are currently 26 children in foster care
  in Clay County. Children navigating the foster care system often face ins
 tability and uncertainty. CASA volunteers provide something powerful: a co
 nsistent adult who advocates for their best interests in court\, in school
 \, and in the community. At this Lunch & Learn\, you’ll hear how the progr
 am works\, what volunteers do\, and how you can get involved\, whether as 
 an advocate or community partner.\n\nRSVP by calling/texting Zoe at (217) 
 821-4657 or filling out a form: https://form.jotform.com/252584618556165\n
X-WR-RELCALID:66f69fca48ca4430309b5fbc97914d90
X-WR-TIMEZONE:America/Chicago
BEGIN:VTIMEZONE
TZID:America/Chicago
BEGIN:STANDARD
TZNAME:CST
DTSTART:20251102T020000
TZOFFSETFROM:-0500
TZOFFSETTO:-0600
RDATE:20261101T020000
END:STANDARD
BEGIN:DAYLIGHT
TZNAME:CDT
DTSTART:20250309T020000
TZOFFSETFROM:-0600
TZOFFSETTO:-0500
RDATE:20260308T020000
RDATE:20270314T020000
END:DAYLIGHT
END:VTIMEZONE
BEGIN:VEVENT
UID:759b0cb1-7e91-498d-a03b-0e86a6f5198c
DTSTAMP:20260425T151239Z
DESCRIPTION:You’re invited to join CASA for Kids for a Lunch & Learn — a re
 laxed\, informative session where you can enjoy a meal and learn how every
 day people can make an extraordinary difference for children in foster car
 e in Clay County.\n\n🕛Thursday\, Feb. 19th\, 12-1p\n📍hrist’s Church in Flo
 ra\n✔️RSVP by Feb. 17th\n\nThere are currently 26 children in foster care 
 in Clay County. Children navigating the foster care system often face inst
 ability and uncertainty. CASA volunteers provide something powerful: a con
 sistent adult who advocates for their best interests in court\, in school\
 , and in the community. At this Lunch & Learn\, you’ll hear how the progra
 m works\, what volunteers do\, and how you can get involved\, whether as a
 n advocate or community partner.\n\nRSVP by calling/texting Zoe at (217) 8
 21-4657 or filling out a form: https://form.jotform.com/252584618556165\n
DTSTART;TZID=America/Chicago:20260219T120000
DTEND;TZID=America/Chicago:20260219T130000
LOCATION:200 N Olive Rd\, Flora\, IL 62839 US
SUMMARY:Lunch & Learn @ Christ's Church in Flora
END:VEVENT
END:VCALENDAR
