BEGIN:VCALENDAR
VERSION:2.0
PRODID:-//casa4change.org//NONSGML kigkonsult.se iCalcreator 2.30.10//
CALSCALE:GREGORIAN
METHOD:PUBLISH
UID:c76e9013-52a4-4a80-8da3-bdfc9814266e
X-WR-CALDESC:Michelle Scott with CASA for Kids will be sharing about CASA's
  mission and volunteer opportunities to the Women of Cornerstone's gatheri
 ng on Saturday\, February 14th at 10a.
X-WR-RELCALID:fa17f45f3cb3afc4b365994e0b6e0cd8
X-WR-TIMEZONE:America/Chicago
BEGIN:VTIMEZONE
TZID:America/Chicago
BEGIN:STANDARD
TZNAME:CST
DTSTART:20251102T020000
TZOFFSETFROM:-0500
TZOFFSETTO:-0600
RDATE:20261101T020000
END:STANDARD
BEGIN:DAYLIGHT
TZNAME:CDT
DTSTART:20250309T020000
TZOFFSETFROM:-0600
TZOFFSETTO:-0500
RDATE:20260308T020000
RDATE:20270314T020000
END:DAYLIGHT
END:VTIMEZONE
BEGIN:VEVENT
UID:ae9c1f11-e38a-4980-80cf-943903be637c
DTSTAMP:20260425T153122Z
DESCRIPTION:Michelle Scott with CASA for Kids will be sharing about CASA's 
 mission and volunteer opportunities to the Women of Cornerstone's gatherin
 g on Saturday\, February 14th at 10a.
DTSTART;TZID=America/Chicago:20260214T100000
DTEND;TZID=America/Chicago:20260214T110000
LOCATION:Cornerstone Community Church\, 109 S First St\, Fairfield\, IL 628
 37 US
SUMMARY:CASA Speaks @ Women of Cornerstone
END:VEVENT
END:VCALENDAR
