BEGIN:VCALENDAR
VERSION:2.0
PRODID:-//casa4change.org//NONSGML kigkonsult.se iCalcreator 2.30.10//
CALSCALE:GREGORIAN
METHOD:PUBLISH
UID:1fcda276-6aeb-4f2b-af84-8b3b63ea11a7
X-WR-CALDESC:CASA for Kids will be speaking during Session 1 and Session 2 
 at the Tri-County Institute Conference. Tavan and Zoe will be sharing how 
 teachers can collaborate with CASA advocates to support students' academic
  and socioemotional success.
X-WR-RELCALID:272f7e9b45ff7b9844522cb7ad4a4f86
X-WR-TIMEZONE:America/Chicago
BEGIN:VTIMEZONE
TZID:America/Chicago
BEGIN:STANDARD
TZNAME:CST
DTSTART:20251102T020000
TZOFFSETFROM:-0500
TZOFFSETTO:-0600
RDATE:20261101T020000
END:STANDARD
BEGIN:DAYLIGHT
TZNAME:CDT
DTSTART:20250309T020000
TZOFFSETFROM:-0600
TZOFFSETTO:-0500
RDATE:20260308T020000
RDATE:20270314T020000
END:DAYLIGHT
END:VTIMEZONE
BEGIN:VEVENT
UID:1deeb2f0-ac83-4e73-9f36-856ceb7761d6
DTSTAMP:20260425T153249Z
DESCRIPTION:CASA for Kids will be speaking during Session 1 and Session 2 a
 t the Tri-County Institute Conference. Tavan and Zoe will be sharing how t
 eachers can collaborate with CASA advocates to support students' academic 
 and socioemotional success.
DTSTART;TZID=America/Chicago:20260213T080000
DTEND;TZID=America/Chicago:20260213T100000
LOCATION:2100 East Calumet St\, Centralia\, IL 62801 US
SUMMARY:CASA @ Tri-County Institute
END:VEVENT
END:VCALENDAR
