BEGIN:VCALENDAR
VERSION:2.0
PRODID:-//casa4change.org//NONSGML kigkonsult.se iCalcreator 2.30.10//
CALSCALE:GREGORIAN
METHOD:PUBLISH
UID:07ffb190-5534-4fd0-8759-79e7d9998c81
X-WR-CALDESC:Let CASA buy you a coffee! Stop by Brewed on Broadway to learn
  how you can be a part of CASA for Kids’ mission to advocate for every chi
 ld in foster care in Franklin County. We’ll see you there!
X-WR-RELCALID:32bde879121d5b9fc2d353f487cacc75
X-WR-TIMEZONE:America/Chicago
BEGIN:VTIMEZONE
TZID:America/Chicago
BEGIN:STANDARD
TZNAME:CST
DTSTART:20251102T020000
TZOFFSETFROM:-0500
TZOFFSETTO:-0600
RDATE:20261101T020000
END:STANDARD
BEGIN:DAYLIGHT
TZNAME:CDT
DTSTART:20250309T020000
TZOFFSETFROM:-0600
TZOFFSETTO:-0500
RDATE:20260308T020000
RDATE:20270314T020000
END:DAYLIGHT
END:VTIMEZONE
BEGIN:VEVENT
UID:ad1edf82-65d4-4817-b25d-d7d54a828d2e
DTSTAMP:20260425T193213Z
DESCRIPTION:Let CASA buy you a coffee! Stop by Brewed on Broadway to learn 
 how you can be a part of CASA for Kids’ mission to advocate for every chil
 d in foster care in Franklin County. We’ll see you there!
DTSTART;TZID=America/Chicago:20251206T080000
DTEND;TZID=America/Chicago:20251206T110000
LOCATION:102 W Franklin Ave\, Sesser\, IL 62884 US
SUMMARY:Coffee with CASA at Brewed on Broadway
END:VEVENT
END:VCALENDAR
