BEGIN:VCALENDAR
VERSION:2.0
PRODID:-//casa4change.org//NONSGML kigkonsult.se iCalcreator 2.30.10//
CALSCALE:GREGORIAN
METHOD:PUBLISH
UID:6a158a11-8772-4c7c-b678-dbd21e272990
X-WR-CALDESC:Grab your gals and join CASA for Kids for a fun evening of pur
 se bingo at the Elks Lodge in Flora on Friday\, November 21st. We'll have 
 door prizes\, 10 rounds of bingo\, light refreshments and bar service. The
 re will be a fabulous assortment of purses to play for\, worth over $2000 
 in total. Tickets go on sale October 1st and can be purchased at https://c
 heckout.page/s/lpIAC2MydHJTP.\nAll proceeds benefit CASA's mission to advo
 cate for every child in foster care in Clay County.\nQuestions? Call (855)
  484-6403 or email Libby Moeller\, lmoeller@casa4change.org.
X-WR-RELCALID:f7c0ba6b8382d869dc9745de66f4be73
X-WR-TIMEZONE:America/Chicago
BEGIN:VTIMEZONE
TZID:America/Chicago
BEGIN:STANDARD
TZNAME:CST
DTSTART:20251102T020000
TZOFFSETFROM:-0500
TZOFFSETTO:-0600
RDATE:20261101T020000
END:STANDARD
BEGIN:DAYLIGHT
TZNAME:CDT
DTSTART:20250309T020000
TZOFFSETFROM:-0600
TZOFFSETTO:-0500
RDATE:20260308T020000
RDATE:20270314T020000
END:DAYLIGHT
END:VTIMEZONE
BEGIN:VEVENT
UID:c88e776a-1811-42fd-9024-aacf6cbae415
DTSTAMP:20260425T213134Z
DESCRIPTION:Grab your gals and join CASA for Kids for a fun evening of purs
 e bingo at the Elks Lodge in Flora on Friday\, November 21st. We'll have d
 oor prizes\, 10 rounds of bingo\, light refreshments and bar service. Ther
 e will be a fabulous assortment of purses to play for\, worth over $2000 i
 n total. Tickets go on sale October 1st and can be purchased at https://ch
 eckout.page/s/lpIAC2MydHJTP.\nAll proceeds benefit CASA's mission to advoc
 ate for every child in foster care in Clay County.\nQuestions? Call (855) 
 484-6403 or email Libby Moeller\, lmoeller@casa4change.org.
DTSTART;TZID=America/Chicago:20251121T170000
DTEND;TZID=America/Chicago:20251121T190000
LOCATION:120 N Main St\, Flora\, IL 62839 US
SUMMARY:Purse Bingo Fundraiser at Flora Elks Lodge
END:VEVENT
END:VCALENDAR
