BEGIN:VCALENDAR
VERSION:2.0
PRODID:-//casa4change.org//NONSGML kigkonsult.se iCalcreator 2.30.10//
CALSCALE:GREGORIAN
METHOD:PUBLISH
UID:9ed4bb33-27b4-4363-b2ac-1d8191d111a9
X-WR-CALDESC:Invite a friend and join CASA for Kids for a free meal at Evan
 s Public Library in Vandalia on October 15th at 12p. Our staff will share 
 about CASA's mission to advocate for foster children and how you can help 
 us provide an advocate for every foster child in Fayette County! RSVP by O
 ctober 13th by texting (217) 821-4657 or using the link below:\nhttps://fo
 rm.jotform.com/252584618556165\nWe'll see you there!
X-WR-RELCALID:0bad7a0866008103fc9adf53ecbb6ffc
X-WR-TIMEZONE:America/Chicago
BEGIN:VTIMEZONE
TZID:America/Chicago
BEGIN:STANDARD
TZNAME:CST
DTSTART:20241103T020000
TZOFFSETFROM:-0500
TZOFFSETTO:-0600
RDATE:20251102T020000
RDATE:20261101T020000
END:STANDARD
BEGIN:DAYLIGHT
TZNAME:CDT
DTSTART:20250309T020000
TZOFFSETFROM:-0600
TZOFFSETTO:-0500
RDATE:20260308T020000
RDATE:20270314T020000
END:DAYLIGHT
END:VTIMEZONE
BEGIN:VEVENT
UID:38adc3c1-5b03-4d79-b257-b0b52468331c
DTSTAMP:20260426T003126Z
DESCRIPTION:Invite a friend and join CASA for Kids for a free meal at Evans
  Public Library in Vandalia on October 15th at 12p. Our staff will share a
 bout CASA's mission to advocate for foster children and how you can help u
 s provide an advocate for every foster child in Fayette County! RSVP by Oc
 tober 13th by texting (217) 821-4657 or using the link below:\nhttps://for
 m.jotform.com/252584618556165\nWe'll see you there!
DTSTART;TZID=America/Chicago:20251015T120000
DTEND;TZID=America/Chicago:20251015T130000
LOCATION:825 W Randolph St\, Vandalia\, IL 62471 US
SUMMARY:Lunch & Learn at Evans Public Library
END:VEVENT
END:VCALENDAR
