BEGIN:VCALENDAR
VERSION:2.0
PRODID:-//casa4change.org//NONSGML kigkonsult.se iCalcreator 2.30.10//
CALSCALE:GREGORIAN
METHOD:PUBLISH
UID:18cfba73-3b1c-41a1-b0f4-efa6dd92d186
X-WR-CALDESC:Invite a friend and join CASA for Kids for a free meal at Pete
 rson Park on Oct. 2 at 12p! Our staff will share about CASA's mission to a
 dvocate for the best interest of foster children and how you can help us p
 rovide an advocate for every foster child in Jasper County! RSVP by Sept. 
 30 by texting (217) 821-4657 or using the link below:\nhttps://form.jotfor
 m.com/252584618556165\nSee you there!
X-WR-RELCALID:42c76181f7308906b6b4ea84fb15a3c2
X-WR-TIMEZONE:America/Chicago
BEGIN:VTIMEZONE
TZID:America/Chicago
BEGIN:STANDARD
TZNAME:CST
DTSTART:20241103T020000
TZOFFSETFROM:-0500
TZOFFSETTO:-0600
RDATE:20251102T020000
RDATE:20261101T020000
END:STANDARD
BEGIN:DAYLIGHT
TZNAME:CDT
DTSTART:20250309T020000
TZOFFSETFROM:-0600
TZOFFSETTO:-0500
RDATE:20260308T020000
RDATE:20270314T020000
END:DAYLIGHT
END:VTIMEZONE
BEGIN:VEVENT
UID:9c52f7bd-fb3e-4f73-9310-3e742b2de04c
DTSTAMP:20260426T005419Z
DESCRIPTION:Invite a friend and join CASA for Kids for a free meal at Peter
 son Park on Oct. 2 at 12p! Our staff will share about CASA's mission to ad
 vocate for the best interest of foster children and how you can help us pr
 ovide an advocate for every foster child in Jasper County! RSVP by Sept. 3
 0 by texting (217) 821-4657 or using the link below:\nhttps://form.jotform
 .com/252584618556165\nSee you there!
DTSTART;TZID=America/Chicago:20251002T120000
DTEND;TZID=America/Chicago:20251002T130000
LOCATION:Peterson Dr\, Newton\, IL 62448 US
SUMMARY:Lunch & Learn at Peterson Park in Newton
END:VEVENT
END:VCALENDAR
