BEGIN:VCALENDAR
VERSION:2.0
PRODID:-//casa4change.org//NONSGML kigkonsult.se iCalcreator 2.30.10//
CALSCALE:GREGORIAN
METHOD:PUBLISH
UID:e6d29d9d-93bc-494d-b5fd-d99e46586bb0
X-WR-CALDESC:Let CASA buy you a coffee! Stop by Gambit Coffee Bar to learn 
 how you can be a part of CASA for Kids’ mission to advocate for every chil
 d in foster care in Franklin County. We’ll see you there!
X-WR-RELCALID:00ab4f46dbc3716ef2c5beae29c6efaa
X-WR-TIMEZONE:America/Chicago
BEGIN:VTIMEZONE
TZID:America/Chicago
BEGIN:STANDARD
TZNAME:CST
DTSTART:20241103T020000
TZOFFSETFROM:-0500
TZOFFSETTO:-0600
RDATE:20251102T020000
RDATE:20261101T020000
END:STANDARD
BEGIN:DAYLIGHT
TZNAME:CDT
DTSTART:20250309T020000
TZOFFSETFROM:-0600
TZOFFSETTO:-0500
RDATE:20260308T020000
RDATE:20270314T020000
END:DAYLIGHT
END:VTIMEZONE
BEGIN:VEVENT
UID:1a6ac732-1b5d-4232-b483-d779975a6c65
DTSTAMP:20260426T020306Z
DESCRIPTION:Let CASA buy you a coffee! Stop by Gambit Coffee Bar to learn h
 ow you can be a part of CASA for Kids’ mission to advocate for every child
  in foster care in Franklin County. We’ll see you there!
DTSTART;TZID=America/Chicago:20250917T090000
DTEND;TZID=America/Chicago:20250917T110000
LOCATION:103 E Main St\, West Frankfort\, IL 62896 US
SUMMARY:Coffee with CASA at Gambit Coffee Bar
END:VEVENT
END:VCALENDAR
