BEGIN:VCALENDAR
VERSION:2.0
PRODID:-//casa4change.org//NONSGML kigkonsult.se iCalcreator 2.30.10//
CALSCALE:GREGORIAN
METHOD:PUBLISH
UID:6ebd321e-3fff-4869-8016-2f23836a8386
X-WR-CALDESC:Stop by CASA for Kids' booth at the Vandalia Farmers Market in
  downtown Vandalia! We'll have plenty of information and freebies to give 
 away.
X-WR-RELCALID:5670c2143832b5de8f32e0e73b7ae2ee
X-WR-TIMEZONE:America/Chicago
BEGIN:VTIMEZONE
TZID:America/Chicago
BEGIN:STANDARD
TZNAME:CST
DTSTART:20241103T020000
TZOFFSETFROM:-0500
TZOFFSETTO:-0600
RDATE:20251102T020000
RDATE:20261101T020000
END:STANDARD
BEGIN:DAYLIGHT
TZNAME:CDT
DTSTART:20250309T020000
TZOFFSETFROM:-0600
TZOFFSETTO:-0500
RDATE:20260308T020000
RDATE:20270314T020000
END:DAYLIGHT
END:VTIMEZONE
BEGIN:VEVENT
UID:24c0323a-8561-4d63-9136-3abf1fbda929
DTSTAMP:20260426T021218Z
DESCRIPTION:Stop by CASA for Kids' booth at the Vandalia Farmers Market in 
 downtown Vandalia! We'll have plenty of information and freebies to give a
 way.
DTSTART;TZID=America/Chicago:20250913T080000
DTEND;TZID=America/Chicago:20250913T110000
LOCATION:315 W Gallatin St\, Vandalia\, IL 62471 US
SUMMARY:CASA for Kids at Vandalia Farmers Market
END:VEVENT
END:VCALENDAR
