BEGIN:VCALENDAR
VERSION:2.0
PRODID:-//casa4change.org//NONSGML kigkonsult.se iCalcreator 2.30.10//
CALSCALE:GREGORIAN
METHOD:PUBLISH
UID:f4006d55-e86e-48e2-9b49-805ef83d569e
X-WR-CALDESC:CASA for Kids will have a booth at the Ramsey Daze festival on
  Friday\, September 12th from 10a-4p. Stop by and learn more about how you
  can be an advocate for foster children in Fayette County. We'll have plen
 ty of information and freebies. See you there!
X-WR-RELCALID:500911644df3ad42b3c0f9e22a9f59c8
X-WR-TIMEZONE:America/Chicago
BEGIN:VTIMEZONE
TZID:America/Chicago
BEGIN:STANDARD
TZNAME:CST
DTSTART:20241103T020000
TZOFFSETFROM:-0500
TZOFFSETTO:-0600
RDATE:20251102T020000
RDATE:20261101T020000
END:STANDARD
BEGIN:DAYLIGHT
TZNAME:CDT
DTSTART:20250309T020000
TZOFFSETFROM:-0600
TZOFFSETTO:-0500
RDATE:20260308T020000
RDATE:20270314T020000
END:DAYLIGHT
END:VTIMEZONE
BEGIN:VEVENT
UID:ab2de724-1f3f-410a-a308-fcb411200165
DTSTAMP:20260426T023125Z
DESCRIPTION:CASA for Kids will have a booth at the Ramsey Daze festival on 
 Friday\, September 12th from 10a-4p. Stop by and learn more about how you 
 can be an advocate for foster children in Fayette County. We'll have plent
 y of information and freebies. See you there!
DTSTART;TZID=America/Chicago:20250912T100000
DTEND;TZID=America/Chicago:20250912T160000
LOCATION:120 5th St\, Ramsey\, IL 62080 US
SUMMARY:CASA for Kids at Ramsey Daze
END:VEVENT
END:VCALENDAR
