BEGIN:VCALENDAR
VERSION:2.0
PRODID:-//casa4change.org//NONSGML kigkonsult.se iCalcreator 2.30.10//
CALSCALE:GREGORIAN
METHOD:PUBLISH
UID:69e75c35-6212-4305-9ee7-7c83da1bae8f
X-WR-CALDESC:Let CASA for Kids buy you a cup of coffee or iced tea! Stop by
  CASA's table at Joe Sippers in Effingham between 1p - 3p on Wednesday 9/3
  and learn about CASA for Kids' mission to advocate for every foster child
  in Effingham County. Being a CASA (Court-Appointed Special Advocate) is a
 n incredibly rewarding and meaningful volunteer opportunity. We look forwa
 rd to meeting you and hopefully serving the children of our community toge
 ther!
X-WR-RELCALID:15823af9df15390dbb6106c70af1f331
X-WR-TIMEZONE:America/Chicago
BEGIN:VTIMEZONE
TZID:America/Chicago
BEGIN:STANDARD
TZNAME:CST
DTSTART:20241103T020000
TZOFFSETFROM:-0500
TZOFFSETTO:-0600
RDATE:20251102T020000
RDATE:20261101T020000
END:STANDARD
BEGIN:DAYLIGHT
TZNAME:CDT
DTSTART:20250309T020000
TZOFFSETFROM:-0600
TZOFFSETTO:-0500
RDATE:20260308T020000
END:DAYLIGHT
END:VTIMEZONE
BEGIN:VEVENT
UID:90af68e7-3410-4a94-af2b-41998f99ac10
DTSTAMP:20260426T024817Z
DESCRIPTION:Let CASA for Kids buy you a cup of coffee or iced tea! Stop by 
 CASA's table at Joe Sippers in Effingham between 1p - 3p on Wednesday 9/3 
 and learn about CASA for Kids' mission to advocate for every foster child 
 in Effingham County. Being a CASA (Court-Appointed Special Advocate) is an
  incredibly rewarding and meaningful volunteer opportunity. We look forwar
 d to meeting you and hopefully serving the children of our community toget
 her!
DTSTART;TZID=America/Chicago:20250903T130000
DTEND;TZID=America/Chicago:20250903T150000
LOCATION:114 S 4th St\, Effingham\, IL 62401 US
SUMMARY:Coffee with CASA at Joe Sippers Cafe
END:VEVENT
END:VCALENDAR
