BEGIN:VCALENDAR
VERSION:2.0
PRODID:-//casa4change.org//NONSGML kigkonsult.se iCalcreator 2.30.10//
CALSCALE:GREGORIAN
METHOD:PUBLISH
UID:0ecbabce-5d92-41ea-a88a-48f64cba9968
X-WR-CALDESC:Let CASA for Kids buy you a cup of coffee! Stop by The Coffee 
 Bean anytime between 10a - 1p on Tuesday 8/26 and learn about CASA for Kid
 s' mission to advocate for every child in foster care in Fayette County. B
 eing a CASA (Court-Appointed Special Advocate) is an incredibly rewarding 
 and meaningful volunteer opportunity. We look forward to meeting you and h
 opefully serving the children of our community together!
X-WR-RELCALID:eda8c926b2b755961c3f425ab495969c
X-WR-TIMEZONE:America/Chicago
BEGIN:VTIMEZONE
TZID:America/Chicago
BEGIN:STANDARD
TZNAME:CST
DTSTART:20241103T020000
TZOFFSETFROM:-0500
TZOFFSETTO:-0600
RDATE:20251102T020000
RDATE:20261101T020000
END:STANDARD
BEGIN:DAYLIGHT
TZNAME:CDT
DTSTART:20250309T020000
TZOFFSETFROM:-0600
TZOFFSETTO:-0500
RDATE:20260308T020000
END:DAYLIGHT
END:VTIMEZONE
BEGIN:VEVENT
UID:09aabd26-cedf-46f2-8647-a0fb47808b68
DTSTAMP:20260426T032850Z
DESCRIPTION:Let CASA for Kids buy you a cup of coffee! Stop by The Coffee B
 ean anytime between 10a - 1p on Tuesday 8/26 and learn about CASA for Kids
 ' mission to advocate for every child in foster care in Fayette County. Be
 ing a CASA (Court-Appointed Special Advocate) is an incredibly rewarding a
 nd meaningful volunteer opportunity. We look forward to meeting you and ho
 pefully serving the children of our community together!
DTSTART;TZID=America/Chicago:20250826T100000
DTEND;TZID=America/Chicago:20250826T130000
LOCATION:1310 N Kennedy Blvd\, Vandalia\, IL 62471 US
SUMMARY:Coffee with CASA at The Coffee Bean
END:VEVENT
END:VCALENDAR
