BEGIN:VCALENDAR
VERSION:2.0
PRODID:-//casa4change.org//NONSGML kigkonsult.se iCalcreator 2.30.10//
CALSCALE:GREGORIAN
METHOD:PUBLISH
UID:d58f482b-8bdc-4106-8daf-8d92d97baa6d
X-WR-CALDESC:CASA for Kids will have a table in the large conference room a
 t Evans Public Library in Vandalia\, IL. Stop by between 10a and 1p for mo
 re information on volunteering as a Court Appointed Special Advocate.
X-WR-RELCALID:8eac3b161787ec103eb33d6686ab373d
X-WR-TIMEZONE:America/Chicago
BEGIN:VTIMEZONE
TZID:America/Chicago
BEGIN:STANDARD
TZNAME:CST
DTSTART:20241103T020000
TZOFFSETFROM:-0500
TZOFFSETTO:-0600
RDATE:20251102T020000
RDATE:20261101T020000
END:STANDARD
BEGIN:DAYLIGHT
TZNAME:CDT
DTSTART:20250309T020000
TZOFFSETFROM:-0600
TZOFFSETTO:-0500
RDATE:20260308T020000
END:DAYLIGHT
END:VTIMEZONE
BEGIN:VEVENT
UID:a9beb000-560b-4939-a238-b03d5dd9b54f
DTSTAMP:20260426T032258Z
DESCRIPTION:CASA for Kids will have a table in the large conference room at
  Evans Public Library in Vandalia\, IL. Stop by between 10a and 1p for mor
 e information on volunteering as a Court Appointed Special Advocate.
DTSTART;TZID=America/Chicago:20250819T100000
DTEND;TZID=America/Chicago:20250819T130000
LOCATION:825 W Randolph St\, Vandalia\, IL 62471 US
SUMMARY:CASA and Conversation at Evans Public Library
END:VEVENT
END:VCALENDAR
