BEGIN:VCALENDAR
VERSION:2.0
PRODID:-//casa4change.org//NONSGML kigkonsult.se iCalcreator 2.30.10//
CALSCALE:GREGORIAN
METHOD:PUBLISH
UID:a7351034-07ee-46d7-8b95-5ae737afbc72
X-WR-CALDESC:CASA for Kids will be sharing CASA's mission to advocate for c
 hildren in foster care in Clay County during the Sunday service on 8/17 at
  Flora First Methodist Church. There will be a table following service wit
 h more information on how to get involved.
X-WR-RELCALID:82e8ce2d640ab0fb7a1a7c72d9732cda
X-WR-TIMEZONE:America/Chicago
BEGIN:VTIMEZONE
TZID:America/Chicago
BEGIN:STANDARD
TZNAME:CST
DTSTART:20241103T020000
TZOFFSETFROM:-0500
TZOFFSETTO:-0600
RDATE:20251102T020000
RDATE:20261101T020000
END:STANDARD
BEGIN:DAYLIGHT
TZNAME:CDT
DTSTART:20250309T020000
TZOFFSETFROM:-0600
TZOFFSETTO:-0500
RDATE:20260308T020000
END:DAYLIGHT
END:VTIMEZONE
BEGIN:VEVENT
UID:1a16a73f-b333-4d48-9897-4bda0c957d13
DTSTAMP:20260426T042305Z
DESCRIPTION:CASA for Kids will be sharing CASA's mission to advocate for ch
 ildren in foster care in Clay County during the Sunday service on 8/17 at 
 Flora First Methodist Church. There will be a table following service with
  more information on how to get involved.
DTSTART;TZID=America/Chicago:20250817T090000
DTEND;TZID=America/Chicago:20250817T120000
LOCATION:103 E 3rd St\, Flora\, IL 62839 US
SUMMARY:CASA at Flora First Methodist Church
END:VEVENT
END:VCALENDAR
