BEGIN:VCALENDAR
VERSION:2.0
PRODID:-//casa4change.org//NONSGML kigkonsult.se iCalcreator 2.30.10//
CALSCALE:GREGORIAN
METHOD:PUBLISH
UID:846d0e00-3aa4-4944-bf11-42ea8c156a44
X-WR-CALDESC:We hope you've been practicing your golf swing!🏌\nCASA for Kid
 s presents our 21st Annual Golf Scramble Fundraiser on August 15th\, 2025!
 \nIt's going to be a fun day supporting a wonderful cause in your local co
 mmunity! Contact CASA for Kids at 618-438-0608 or email us at ccorn@casa4c
 hange.org to book your teams and sponsorships!
X-WR-RELCALID:8b8f6fab726bbce37f46115ee8c8b115
X-WR-TIMEZONE:America/Chicago
BEGIN:VTIMEZONE
TZID:America/Chicago
BEGIN:STANDARD
TZNAME:CST
DTSTART:20241103T020000
TZOFFSETFROM:-0500
TZOFFSETTO:-0600
RDATE:20251102T020000
RDATE:20261101T020000
END:STANDARD
BEGIN:DAYLIGHT
TZNAME:CDT
DTSTART:20250309T020000
TZOFFSETFROM:-0600
TZOFFSETTO:-0500
RDATE:20260308T020000
END:DAYLIGHT
END:VTIMEZONE
BEGIN:VEVENT
UID:7209350e-122f-4b96-93ce-96a73aee629a
DTSTAMP:20260426T042255Z
DESCRIPTION:We hope you've been practicing your golf swing!🏌\nCASA for Kids
  presents our 21st Annual Golf Scramble Fundraiser on August 15th\, 2025!
 \nIt's going to be a fun day supporting a wonderful cause in your local co
 mmunity! Contact CASA for Kids at 618-438-0608 or email us at ccorn@casa4c
 hange.org to book your teams and sponsorships!
DTSTART;TZID=America/Chicago:20250815T073000
DTEND;TZID=America/Chicago:20250815T150000
LOCATION:14738 IL-14\, Benton\, IL 62812 US
SUMMARY:21st Annual Golf Scramble Fundraiser
END:VEVENT
END:VCALENDAR
